BEGIN:VCALENDAR
VERSION:2.0
PRODID:-//MACAL Program - ECPv6.15.15//NONSGML v1.0//EN
CALSCALE:GREGORIAN
METHOD:PUBLISH
X-ORIGINAL-URL:https://macal.royalroads.ca
X-WR-CALDESC:Events for MACAL Program
REFRESH-INTERVAL;VALUE=DURATION:PT1H
X-Robots-Tag:noindex
X-PUBLISHED-TTL:PT1H
BEGIN:VTIMEZONE
TZID:America/Vancouver
BEGIN:DAYLIGHT
TZOFFSETFROM:-0800
TZOFFSETTO:-0700
TZNAME:PDT
DTSTART:20200308T100000
END:DAYLIGHT
BEGIN:STANDARD
TZOFFSETFROM:-0700
TZOFFSETTO:-0800
TZNAME:PST
DTSTART:20201101T090000
END:STANDARD
BEGIN:DAYLIGHT
TZOFFSETFROM:-0800
TZOFFSETTO:-0700
TZNAME:PDT
DTSTART:20210314T100000
END:DAYLIGHT
BEGIN:STANDARD
TZOFFSETFROM:-0700
TZOFFSETTO:-0800
TZNAME:PST
DTSTART:20211107T090000
END:STANDARD
BEGIN:DAYLIGHT
TZOFFSETFROM:-0800
TZOFFSETTO:-0700
TZNAME:PDT
DTSTART:20220313T100000
END:DAYLIGHT
BEGIN:STANDARD
TZOFFSETFROM:-0700
TZOFFSETTO:-0800
TZNAME:PST
DTSTART:20221106T090000
END:STANDARD
BEGIN:DAYLIGHT
TZOFFSETFROM:-0800
TZOFFSETTO:-0700
TZNAME:PDT
DTSTART:20230312T100000
END:DAYLIGHT
BEGIN:STANDARD
TZOFFSETFROM:-0700
TZOFFSETTO:-0800
TZNAME:PST
DTSTART:20231105T090000
END:STANDARD
END:VTIMEZONE
BEGIN:VEVENT
DTSTART;TZID=America/Vancouver:20220405T113000
DTEND;TZID=America/Vancouver:20220405T140000
DTSTAMP:20260421T103856
CREATED:20220309T221711Z
LAST-MODIFIED:20220309T221711Z
UID:5582-1649158200-1649167200@macal.royalroads.ca
SUMMARY:Greater Vancouver Board of Trade: Climate Innovation Through Transformative Technologies
DESCRIPTION:Check out this 3-part webinar series sponsored by the Vancouver Board of Trade\, focused on climate resilience in action looking at business technology innovation\, ESG… Continue reading → Greater Vancouver Board of Trade: Climate Innovation Through Transformative Technologies
URL:https://macal.royalroads.ca/events/greater-vancouver-board-of-trade-climate-innovation-through-transformative-technologies/
CATEGORIES:Conference
ATTACH;FMTTYPE=image/jpeg:https://macal.royalroads.ca/wp-content/uploads/2022/03/GVBofT-Conference.jpg
END:VEVENT
BEGIN:VEVENT
DTSTART;VALUE=DATE:20211027
DTEND;VALUE=DATE:20211029
DTSTAMP:20260421T103856
CREATED:20211005T222240Z
LAST-MODIFIED:20211005T222240Z
UID:4826-1635292800-1635465599@macal.royalroads.ca
SUMMARY:Engineers and Geoscientists BC 2021 Annual Conference
DESCRIPTION:Check out this 3-part webinar series sponsored by the Vancouver Board of Trade\, focused on climate resilience in action looking at business technology innovation\, ESG… Continue reading → Greater Vancouver Board of Trade: Climate Innovation Through Transformative Technologies
URL:https://macal.royalroads.ca/events/engineers-and-geoscientists-bc-2021-annual-conference/
LOCATION:Online
CATEGORIES:Conference
ATTACH;FMTTYPE=image/jpeg:https://macal.royalroads.ca/wp-content/uploads/2021/10/the-climate-reality-project-Hb6uWq0i4MI-unsplash-scaled.jpg
END:VEVENT
BEGIN:VEVENT
DTSTART;TZID=America/Vancouver:20211022T090000
DTEND;TZID=America/Vancouver:20211022T160000
DTSTAMP:20260421T103856
CREATED:20210928T174205Z
LAST-MODIFIED:20210928T183502Z
UID:4761-1634893200-1634918400@macal.royalroads.ca
SUMMARY:Classrooms to Communities Conference (C2C)
DESCRIPTION:Check out this 3-part webinar series sponsored by the Vancouver Board of Trade\, focused on climate resilience in action looking at business technology innovation\, ESG… Continue reading → Greater Vancouver Board of Trade: Climate Innovation Through Transformative Technologies
URL:https://macal.royalroads.ca/events/classrooms-to-communities-conference-c2c/
LOCATION:Online
CATEGORIES:Conference
ATTACH;FMTTYPE=image/jpeg:https://macal.royalroads.ca/wp-content/uploads/2021/09/alexis-brown-omeaHbEFlN4-unsplash-scaled.jpg
END:VEVENT
BEGIN:VEVENT
DTSTART;TZID=America/Vancouver:20211004T150000
DTEND;TZID=America/Vancouver:20211004T170000
DTSTAMP:20260421T103856
CREATED:20210928T232713Z
LAST-MODIFIED:20210928T234622Z
UID:4803-1633359600-1633366800@macal.royalroads.ca
SUMMARY:The Future of Geotechnics
DESCRIPTION:Check out this 3-part webinar series sponsored by the Vancouver Board of Trade\, focused on climate resilience in action looking at business technology innovation\, ESG… Continue reading → Greater Vancouver Board of Trade: Climate Innovation Through Transformative Technologies
URL:https://macal.royalroads.ca/events/the-future-of-geotechnics/
LOCATION:Online
CATEGORIES:Conference
ATTACH;FMTTYPE=image/jpeg:https://macal.royalroads.ca/wp-content/uploads/2021/09/photo-1581092457781-8524efafa559.jpg
END:VEVENT
BEGIN:VEVENT
DTSTART;VALUE=DATE:20210927
DTEND;VALUE=DATE:20211002
DTSTAMP:20260421T103856
CREATED:20210928T183406Z
LAST-MODIFIED:20210928T183406Z
UID:4780-1632700800-1633132799@macal.royalroads.ca
SUMMARY:Open Education Global Conference
DESCRIPTION:Check out this 3-part webinar series sponsored by the Vancouver Board of Trade\, focused on climate resilience in action looking at business technology innovation\, ESG… Continue reading → Greater Vancouver Board of Trade: Climate Innovation Through Transformative Technologies
URL:https://macal.royalroads.ca/events/open-education-global-conference/
LOCATION:Online
CATEGORIES:Conference
ATTACH;FMTTYPE=image/jpeg:https://macal.royalroads.ca/wp-content/uploads/2020/12/pexels-pixabay-159213-scaled.jpg
END:VEVENT
END:VCALENDAR